BEGIN:VCALENDAR
VERSION:2.0
PRODID:-//B.L. Flyers - ECPv6.8.3//NONSGML v1.0//EN
CALSCALE:GREGORIAN
METHOD:PUBLISH
X-WR-CALNAME:B.L. Flyers
X-ORIGINAL-URL:https://bl-flyers.de
X-WR-CALDESC:Veranstaltungen für B.L. Flyers
REFRESH-INTERVAL;VALUE=DURATION:PT1H
X-Robots-Tag:noindex
X-PUBLISHED-TTL:PT1H
BEGIN:VTIMEZONE
TZID:Europe/Helsinki
BEGIN:DAYLIGHT
TZOFFSETFROM:+0200
TZOFFSETTO:+0300
TZNAME:EEST
DTSTART:20230326T010000
END:DAYLIGHT
BEGIN:STANDARD
TZOFFSETFROM:+0300
TZOFFSETTO:+0200
TZNAME:EET
DTSTART:20231029T010000
END:STANDARD
END:VTIMEZONE
BEGIN:VEVENT
DTSTART;TZID=Europe/Helsinki:20231111T160000
DTEND;TZID=Europe/Helsinki:20231111T183000
DTSTAMP:20260423T093244
CREATED:20231104T153501Z
LAST-MODIFIED:20231104T153501Z
UID:918-1699718400-1699727400@bl-flyers.de
SUMMARY:1.Punktspiel der Saison - B.L. Flyers vs. USV Jena
DESCRIPTION:
URL:https://bl-flyers.de/event/1-punktspiel-der-saison-b-l-flyers-vs-usv-jena/
LOCATION:Oostkamphalle\, Oostkampstraße\, Bad Langensalza\, Thüringen\, 99947\, Deutschland
ORGANIZER;CN="B.L. FLyers":MAILTO:info@bl-flyers.de
END:VEVENT
END:VCALENDAR