BEGIN:VCALENDAR
VERSION:2.0
PRODID:-//B.L. Flyers - ECPv6.8.3//NONSGML v1.0//EN
CALSCALE:GREGORIAN
METHOD:PUBLISH
X-ORIGINAL-URL:https://bl-flyers.de
X-WR-CALDESC:Veranstaltungen für B.L. Flyers
REFRESH-INTERVAL;VALUE=DURATION:PT1H
X-Robots-Tag:noindex
X-PUBLISHED-TTL:PT1H
BEGIN:VTIMEZONE
TZID:Europe/Helsinki
BEGIN:DAYLIGHT
TZOFFSETFROM:+0200
TZOFFSETTO:+0300
TZNAME:EEST
DTSTART:20240331T010000
END:DAYLIGHT
BEGIN:STANDARD
TZOFFSETFROM:+0300
TZOFFSETTO:+0200
TZNAME:EET
DTSTART:20241027T010000
END:STANDARD
END:VTIMEZONE
BEGIN:VEVENT
DTSTART;TZID=Europe/Helsinki:20240127T160000
DTEND;TZID=Europe/Helsinki:20240127T180000
DTSTAMP:20260423T054802
CREATED:20231113T140216Z
LAST-MODIFIED:20240125T150615Z
UID:961-1706371200-1706378400@bl-flyers.de
SUMMARY:U19 Punktspiel B.L. Flyers vs. Medipolis SC Jena
DESCRIPTION:
URL:https://bl-flyers.de/event/u19-punktspiel-b-l-flyers-vs-medipolis-sc-jena/
LOCATION:Oostkamphalle\, Oostkampstraße\, Bad Langensalza\, Thüringen\, 99947\, Deutschland
ATTACH;FMTTYPE=image/png:https://bl-flyers.de/wp-content/uploads/2023/11/Logo-Jena.png
END:VEVENT
END:VCALENDAR