BEGIN:VCALENDAR
VERSION:2.0
PRODID:-//B.L. Flyers - ECPv6.8.3//NONSGML v1.0//EN
CALSCALE:GREGORIAN
METHOD:PUBLISH
X-WR-CALNAME:B.L. Flyers
X-ORIGINAL-URL:https://bl-flyers.de
X-WR-CALDESC:Veranstaltungen für B.L. Flyers
REFRESH-INTERVAL;VALUE=DURATION:PT1H
X-Robots-Tag:noindex
X-PUBLISHED-TTL:PT1H
BEGIN:VTIMEZONE
TZID:Europe/Helsinki
BEGIN:DAYLIGHT
TZOFFSETFROM:+0200
TZOFFSETTO:+0300
TZNAME:EEST
DTSTART:20240331T010000
END:DAYLIGHT
BEGIN:STANDARD
TZOFFSETFROM:+0300
TZOFFSETTO:+0200
TZNAME:EET
DTSTART:20241027T010000
END:STANDARD
END:VTIMEZONE
BEGIN:VEVENT
DTSTART;TZID=Europe/Helsinki:20240224T160000
DTEND;TZID=Europe/Helsinki:20240224T180000
DTSTAMP:20260423T054507
CREATED:20231113T140526Z
LAST-MODIFIED:20231113T140526Z
UID:964-1708790400-1708797600@bl-flyers.de
SUMMARY:U19 Punktspiel B.L. Flyers vs. BiG – Gotha
DESCRIPTION:
URL:https://bl-flyers.de/event/u19-punktspiel-b-l-flyers-vs-big-gotha/
LOCATION:Oostkamphalle\, Oostkampstraße\, Bad Langensalza\, Thüringen\, 99947\, Deutschland
ATTACH;FMTTYPE=image/png:https://bl-flyers.de/wp-content/uploads/2023/11/Logo-Gotha.png
END:VEVENT
END:VCALENDAR