BEGIN:VCALENDAR
VERSION:2.0
PRODID:-//B.L. Flyers - ECPv6.8.3//NONSGML v1.0//EN
CALSCALE:GREGORIAN
METHOD:PUBLISH
X-ORIGINAL-URL:https://bl-flyers.de
X-WR-CALDESC:Veranstaltungen für B.L. Flyers
REFRESH-INTERVAL;VALUE=DURATION:PT1H
X-Robots-Tag:noindex
X-PUBLISHED-TTL:PT1H
BEGIN:VTIMEZONE
TZID:Europe/Helsinki
BEGIN:DAYLIGHT
TZOFFSETFROM:+0200
TZOFFSETTO:+0300
TZNAME:EEST
DTSTART:20240331T010000
END:DAYLIGHT
BEGIN:STANDARD
TZOFFSETFROM:+0300
TZOFFSETTO:+0200
TZNAME:EET
DTSTART:20241027T010000
END:STANDARD
END:VTIMEZONE
BEGIN:VEVENT
DTSTART;TZID=Europe/Helsinki:20241227T110000
DTEND;TZID=Europe/Helsinki:20241227T200000
DTSTAMP:20260420T124329
CREATED:20241015T120700Z
LAST-MODIFIED:20241015T120700Z
UID:1145-1735297200-1735329600@bl-flyers.de
SUMMARY:Weihnachtsturnier 2024
DESCRIPTION:Einladung zum Weihnachtsturnier 2024 🎄🏀 \nLiebe Basketballfreunde\, \nwir laden euch herzlich zu unserem diesjährigen Weihnachtsturnier ein! \nEgal ob jung oder alt\, Anfänger oder Profi – alle sind willkommen\, um gemeinsam den Spaß am Basketball zu erleben und das Jahr sportlich ausklingen zu lassen. \nTurnierdetails: \n📅 Datum: 27.12.2024\n🕒 Uhrzeit: ganztägig  Start: 11:00 Uhr\n📍 Ort: Bad Langensalza\, Oostkamphalle\n👥 Modus: 5 vs 5\n🧑‍🤝‍🧑 Altersklassen: Keine – alle können mitmachen! \nOb als Einzelspieler oder als Team – meldet euch an und seid dabei! Wir freuen uns auf spannende Spiele und eine tolle gemeinsame Zeit. Für Verpflegung ist gesorgt. \nAnmeldung:\nBitte meldet euer Team bis zum 13.12.2024 per Email oder via Facebook/ Instagram an. \ninfo@bl-flyers.de \nAnmeldegebühr pro Spieler 10\,- € (bezahlt wird am Turniertag) \nBitte gebt bei der Anmeldung euern Teamname und die Anzahl der Spieler mit an. \nWir freuen uns auf euch und ein tolles Weihnachtsturnier! \nSportliche Grüße\,\nBL- Flyers Team
URL:https://bl-flyers.de/event/weihnachtsturnier-2024/
LOCATION:Oostkamphalle\, Oostkampstraße\, Bad Langensalza\, Thüringen\, 99947\, Deutschland
ATTACH;FMTTYPE=image/jpeg:https://bl-flyers.de/wp-content/uploads/2024/10/360_F_127020902_khZc96EgHw5PnQDbJEBpUZ12f3e60bib.jpg
ORGANIZER;CN="B.L. FLyers":MAILTO:info@bl-flyers.de
END:VEVENT
END:VCALENDAR