BEGIN:VCALENDAR
VERSION:2.0
PRODID:-//B.L. Flyers - ECPv6.8.3//NONSGML v1.0//EN
CALSCALE:GREGORIAN
METHOD:PUBLISH
X-WR-CALNAME:B.L. Flyers
X-ORIGINAL-URL:https://bl-flyers.de
X-WR-CALDESC:Veranstaltungen für B.L. Flyers
REFRESH-INTERVAL;VALUE=DURATION:PT1H
X-Robots-Tag:noindex
X-PUBLISHED-TTL:PT1H
BEGIN:VTIMEZONE
TZID:Europe/Helsinki
BEGIN:DAYLIGHT
TZOFFSETFROM:+0200
TZOFFSETTO:+0300
TZNAME:EEST
DTSTART:20230326T010000
END:DAYLIGHT
BEGIN:STANDARD
TZOFFSETFROM:+0300
TZOFFSETTO:+0200
TZNAME:EET
DTSTART:20231029T010000
END:STANDARD
END:VTIMEZONE
BEGIN:VEVENT
DTSTART;TZID=Europe/Helsinki:20231216T160000
DTEND;TZID=Europe/Helsinki:20231216T180000
DTSTAMP:20260423T054519
CREATED:20231113T135446Z
LAST-MODIFIED:20231113T135446Z
UID:954-1702742400-1702749600@bl-flyers.de
SUMMARY:U19 Punktspiel B.L. Flyers vs. SV TU-Ilmenau e.V.
DESCRIPTION:
URL:https://bl-flyers.de/event/u19-punktspiel-b-l-flyers-vs-sv-tu-ilmenau-e-v/
LOCATION:Oostkamphalle\, Oostkampstraße\, Bad Langensalza\, Thüringen\, 99947\, Deutschland
ATTACH;FMTTYPE=image/png:https://bl-flyers.de/wp-content/uploads/2023/11/Logo-Imenau.png
END:VEVENT
BEGIN:VEVENT
DTSTART;TZID=Europe/Helsinki:20231218T180000
DTEND;TZID=Europe/Helsinki:20231218T190000
DTSTAMP:20260423T054519
CREATED:20231121T140443Z
LAST-MODIFIED:20231121T140443Z
UID:1033-1702922400-1702926000@bl-flyers.de
SUMMARY:Testspiel U12 Mini-Flyers gegen BIG (Gotha)
DESCRIPTION:
URL:https://bl-flyers.de/event/testspiel-u12-mini-flyers-gegen-big-gotha/
LOCATION:Oostkamphalle\, Oostkampstraße\, Bad Langensalza\, Thüringen\, 99947\, Deutschland
ATTACH;FMTTYPE=image/png:https://bl-flyers.de/wp-content/uploads/2023/11/Logo-Gotha.png
END:VEVENT
BEGIN:VEVENT
DTSTART;VALUE=DATE:20231227
DTEND;VALUE=DATE:20231228
DTSTAMP:20260423T054519
CREATED:20230922T084852Z
LAST-MODIFIED:20230922T084852Z
UID:893-1703635200-1703721599@bl-flyers.de
SUMMARY:Weihnachtsturnier
DESCRIPTION:
URL:https://bl-flyers.de/event/weihnachtsturnier/
LOCATION:Oostkamphalle\, Oostkampstraße\, Bad Langensalza\, Thüringen\, 99947\, Deutschland
ORGANIZER;CN="B.L. FLyers":MAILTO:info@bl-flyers.de
END:VEVENT
END:VCALENDAR