BEGIN:VCALENDAR
VERSION:2.0
PRODID:-//B.L. Flyers - ECPv6.8.3//NONSGML v1.0//EN
CALSCALE:GREGORIAN
METHOD:PUBLISH
X-ORIGINAL-URL:https://bl-flyers.de
X-WR-CALDESC:Veranstaltungen für B.L. Flyers
REFRESH-INTERVAL;VALUE=DURATION:PT1H
X-Robots-Tag:noindex
X-PUBLISHED-TTL:PT1H
BEGIN:VTIMEZONE
TZID:Europe/Helsinki
BEGIN:DAYLIGHT
TZOFFSETFROM:+0200
TZOFFSETTO:+0300
TZNAME:EEST
DTSTART:20240331T010000
END:DAYLIGHT
BEGIN:STANDARD
TZOFFSETFROM:+0300
TZOFFSETTO:+0200
TZNAME:EET
DTSTART:20241027T010000
END:STANDARD
END:VTIMEZONE
BEGIN:VEVENT
DTSTART;TZID=Europe/Helsinki:20240302T160000
DTEND;TZID=Europe/Helsinki:20240302T180000
DTSTAMP:20260423T013644
CREATED:20231113T140815Z
LAST-MODIFIED:20231113T140815Z
UID:967-1709395200-1709402400@bl-flyers.de
SUMMARY:U19 Punktspiel B.L. Flyers vs. BC Erfurt
DESCRIPTION:
URL:https://bl-flyers.de/event/u19-punktspiel-b-l-flyers-vs-bc-erfurt/
LOCATION:Oostkamphalle\, Oostkampstraße\, Bad Langensalza\, Thüringen\, 99947\, Deutschland
ATTACH;FMTTYPE=image/png:https://bl-flyers.de/wp-content/uploads/2023/11/Logo-BC-Erfurt.png
END:VEVENT
BEGIN:VEVENT
DTSTART;TZID=Europe/Helsinki:20240316T160000
DTEND;TZID=Europe/Helsinki:20240316T180000
DTSTAMP:20260423T013644
CREATED:20231113T141438Z
LAST-MODIFIED:20231113T141438Z
UID:970-1710604800-1710612000@bl-flyers.de
SUMMARY:U19 Punktspiel B.L. Flyers vs. Bullets Greiz
DESCRIPTION:
URL:https://bl-flyers.de/event/u19-punktspiel-b-l-flyers-vs-bullets-greiz/
LOCATION:Oostkamphalle\, Oostkampstraße\, Bad Langensalza\, Thüringen\, 99947\, Deutschland
ATTACH;FMTTYPE=image/jpeg:https://bl-flyers.de/wp-content/uploads/2023/11/Logo-Greiz.jpg
END:VEVENT
BEGIN:VEVENT
DTSTART;TZID=Europe/Helsinki:20240324T100000
DTEND;TZID=Europe/Helsinki:20240324T150000
DTSTAMP:20260423T013644
CREATED:20240208T123215Z
LAST-MODIFIED:20240208T123238Z
UID:1070-1711274400-1711292400@bl-flyers.de
SUMMARY:U19 Turnier Modus 2023/2024
DESCRIPTION:Nach den Turnieren in Meiningen und Saalfeld\, findet es nun bei uns in Bad Langensalza statt. \nWir freuen uns auf die Basketballer aus Meiningen und Saalfeld! \nMotto: Erfahrung sammeln und Spaß haben! \n 
URL:https://bl-flyers.de/event/u19-turnier-modus-2023-2024/
LOCATION:Oostkamphalle\, Oostkampstraße\, Bad Langensalza\, Thüringen\, 99947\, Deutschland
END:VEVENT
END:VCALENDAR