BEGIN:VCALENDAR
VERSION:2.0
PRODID:-//B.L. Flyers - ECPv6.8.3//NONSGML v1.0//EN
CALSCALE:GREGORIAN
METHOD:PUBLISH
X-ORIGINAL-URL:https://bl-flyers.de
X-WR-CALDESC:Veranstaltungen für B.L. Flyers
REFRESH-INTERVAL;VALUE=DURATION:PT1H
X-Robots-Tag:noindex
X-PUBLISHED-TTL:PT1H
BEGIN:VTIMEZONE
TZID:Europe/Helsinki
BEGIN:DAYLIGHT
TZOFFSETFROM:+0200
TZOFFSETTO:+0300
TZNAME:EEST
DTSTART:20240331T010000
END:DAYLIGHT
BEGIN:STANDARD
TZOFFSETFROM:+0300
TZOFFSETTO:+0200
TZNAME:EET
DTSTART:20241027T010000
END:STANDARD
END:VTIMEZONE
BEGIN:VEVENT
DTSTART;VALUE=DATE:20240817
DTEND;VALUE=DATE:20240818
DTSTAMP:20260422T183153
CREATED:20240529T121854Z
LAST-MODIFIED:20240806T071934Z
UID:1103-1723852800-1723939199@bl-flyers.de
SUMMARY:B.L. Flyer Summer Basketball  Anmeldung Klick Hier !!!
DESCRIPTION:Wir freuen uns\, unser jährliches Basketball-Turnier anzukündigen\, das in drei Altersklassen gespielt wird:  \n**Erste Altersklasse**: bis 12 Jahre – \n**Zweite Altersklasse**: 13 bis 16 Jahre \n**Dritte Altersklasse**: ab 17 Jahre \nZeitplan und Turnierbeginn  \nDas Turnier beginnt am **17.08. um 10:00 Uhr** mit einem Warm-Up. Der Start des Turniers ist für **11:00 Uhr** geplant. Die Siegerehrung wird voraussichtlich gegen **16:00 Uhr** stattfinden. \nMannschaftsgröße und Spielregeln \nJedes Team besteht aus **vier Spielern**\, und es wird nach den **Streetballregeln** im Format **3 vs. 3** gespielt. \nAnmeldeinformationen \nDie Anmeldegebühr beträgt **20 Euro pro Mannschaft** Ihr könnt euch gerne über Instagram & Facebook vorab anmelden. Das Anmeldeformular kann am Eventtag ausgefüllt werden. \nAnmeldeformular (siehe Anhang) an: info@bl-flyers.de \n. Pro Altersklasse werden maximal **acht Mannschaften** zugelassen. Daher ist eine schnelle Anmeldung ratsam. \nPreise und Auszeichnungen \nGespielt wird um **Ruhm und Ehre** sowie einen **Preis** in jeder Altersklasse. Vielleicht halten wir noch die eine oder andere **Überraschung** für euch bereit. \nWeitere Highlights zusätzlich zum sportlichen Wettbewerb wird es auch eine **Tombola** geben\, bei der viele tolle Preise verlost werden. \nVerpflegung  \nFür das leibliche Wohl ist gesorgt: Es wird **Essen und Getränke** für alle Teilnehmer und Zuschauer geben. \nZweck des Events  \nDie erzielten Einnahmen werden wir in die **Förderung unseres Basketballsports** investieren\, um zukünftig noch besser aufgestellt zu sein und die Entwicklung weiter voranzutreiben. \nWir freuen uns auf ein fantastisches Basketballfest für Jung und Alt. Unterstützen Sie die Spieler und genießen Sie einen Tag voller Spannung und Spaß. Seien Sie dabei und machen Sie dieses Event zu einem unvergesslichen Erlebnis! \nAnmeldung Streetballtunier 2024
URL:https://bl-flyers.de/event/b-l-flyer-summer-basketball-ein-event-fuer-alle-altersklassen/
LOCATION:Jahnplatz Bad Langensalza\, Jahnstraße\, Bad Langensalza\, 99947
ORGANIZER;CN="B.L. FLyers":MAILTO:info@bl-flyers.de
END:VEVENT
END:VCALENDAR